Workbook
Name __xlfn_IFERROR: #N/A
Name __xlfn_SUMIFS: #N/A
Name ATIVOSouJOVEM: '[1]DADOS (OCULTAR)'!$Y$4:$Y$5
Name CATDESP6: '[1]DADOS (OCULTAR)'!$B$3:$B$181
Name CLASSIF: '[1]DADOS (OCULTAR)'!#REF!
Name Classificação: '[1]DADOS (OCULTAR)'!$F$4:$F$5
Name COMPET: '[1]DADOS (OCULTAR)'!$D$4:$D$75
Name DIVISÃO: '[1]DADOS (OCULTAR)'!$U$3:$U$4
Name Excel_BuiltIn__FilterDatabase: 'CONTÁBIL- FINANCEIRA '!$B$27:$G$274
Name Excel_BuiltIn_Print_Area_8: #REF!
Name Excel_BuiltIn_Print_Area_8: #REF!
Name Excel_BuiltIn_Print_Area_9: #REF!
Name Excel_BuiltIn_Print_Area_9: #REF!
Name MESES: '[1]DADOS (OCULTAR)'!$Z$4:$Z$15
Name NÃO: 'CONTÁBIL- FINANCEIRA '!$G$5
Name Print_Area_0: 'CONTÁBIL- FINANCEIRA '!$C$1:$G$285
Name Print_Area_0_0: 'CONTÁBIL- FINANCEIRA '!$C$1:$G$285
Name Print_Area_0_0_0: 'CONTÁBIL- FINANCEIRA '!$C$1:$G$285
Name Print_Area_0_0_0_0: 'CONTÁBIL- FINANCEIRA '!$C$1:$G$285
Name Print_Area_0_0_0_0_0: 'CONTÁBIL- FINANCEIRA '!$C$1:$G$285
Name RELDESPPG: '[1]DADOS (OCULTAR)'!$AK$3:$AK$189
Name UNIDADES: '[1]DADOS (OCULTAR)'!$P$3:$P$40

Sheet CONTÁBIL- FINANCEIRA 
D1: DIRETORIA EXECUTIVA DE REGULAÇÃO MÉDIA E ALTA COMPLEXIDADE | F1: SETEMBRO/2020 - Versão 4.0
D2: DIRETORIA EXECUTIVA DE PLANEJAMENTO ORÇAMENTO E GESTÃO DA INFORMAÇÃO | F2: MÊS/ANO COMPETÊNCIA | G2: ANO CONTRATO
D3: DIRETORIA DE ADMINISTRAÇÃO E FINANÇAS
D4: DEMONSTRATIVO DE CONTRATOS SERVIÇOS TERCEIRIZADOS | F4: 44075 | G4: 4 | BB4: Pessoal
C5: UNIDADE (acessar lista suspensa) | E5: RESPONSÁVEL PELA UNIDADE | F5: ISENTO PIS: | G5: NÃO
C6: HOSPITAL DA MULHER DO RECIFE | E6: Ana Karla Mattos | F6: CNPJ | G6: 10.894.988/0004-86
C7: HOSPITAL DO CÂNCER DE PERMANBUCO-HCP-GESTÃO | F7: OSS - GESTORA | H7: 10
C8: DESCRIÇÃO | F8: 42491
C9: RECEITAS OPERACIONAIS | F9: VALOR
C10: Repasse Contrato de Gestão (Fixo+Variável) | F10: =2347952.06+4067553.53+3556243.83 -> 9971749.4
C11: Repasse Contrato de Gestão (Odontologia)
C12: Repasse Contrato de Gestão ENSINO E PESQUISA
C13: Plano de Investimento Autorizado pela Contratante | F13: 0
C14: Repasse Programas Especiais
C15: ( - ) Desconto
C16: TOTAL DE REPASSES | F16: =SUM(F10:G14)-F15 -> 9971749.4
C17: Rendimento de Aplicações Financeiras | F17: 103.68
C18: Rendimento de Aplicações Financeiras do Recurso de Plano de Investimento Autorizado pela Contratante
C19: Reembolso de Despesas
C20: Obtenção de Recursos Externos
C21: Demais Receitas (Convênios)
C22: Outras Receitas
C23: TOTAL OUTRAS RECEITAS | F23: =SUM(F17:G22) -> 103.68
C24: TOTAL DE REPASSES/RECEITAS | F24: =F23+F16 -> 9971853.1
C26: DESPESAS OPERACIONAIS | F26: VALOR
C27: 1. Pessoal | F27: =F28+SUM(F34:F37) -> 7855815.6
C28: 1.1. Ordenados (Não inclui férias, 13º e Rescisão) | F28: =F29+F32+F33 -> 4802157.8
C29: 1.1.1. Assistência Médica | F29: =F30+F31 -> 4028520.3
A30: 1 - Médico | B30: 1.1 | C30: 1.1.1.1. Médicos | F30: ='[1]TCE - ANEXO II - Preencher'!X1 -> 2372172.4 | H30: Informação retirada do Anexo II - Preencher
A31: 2 - Outros Profissionais da Saúde | B31: 1.1 | C31: 1.1.1.2. Outros profissionais de saúde | F31: ='[1]TCE - ANEXO II - Preencher'!X2 -> 1656347.9 | H31: Informação retirada do Anexo II - Preencher
A32: 4 - Assistência Odontológica | B32: 1.1 | C32: 1.1.2. Assistência Odontológica | F32: ='[1]TCE - ANEXO II - Preencher'!X4 -> 0 | H32: Informação retirada do Anexo II - Preencher
A33: 3 - Administrativo | B33: 1.1 | C33: 1.1.3. Administrativo | F33: ='[1]TCE - ANEXO II - Preencher'!X3 -> 773637.52 | H33: Informação retirada do Anexo II - Preencher
A34: 2 - FGTS | B34: 1.2 | C34: 1.2. FGTS | F34: =[1]MEM.CÁLC.FP.!$D$114 -> 387890.44 | H34: Informação retirada da MEM.CÁLC.FP.
A35: 1 - PIS | B35: 1.2 | C35: 1.3. PIS | F35: =IF(G5="SIM","",[1]MEM.CÁLC.FP.!$D$115) -> 48593.118 | H35: Informação retirada da MEM.CÁLC.FP.
A36: 1.99 - Outras Depesas com Pessoal | B36: 1.99 | C36: 1.4. Benefícios | F36: =[1]MEM.CÁLC.FP.!$C$118 -> 84313.09 | H36: Informação retirada da MEM.CÁLC.FP.
C37: 1.5. Despesas com Provisões (Férias + 13º + Rescisões) | F37: =F38+F42+F46 -> 2532861.2
C38: 1.5.1. Total Férias | F38: =SUM(F39:G41) -> 330149.17
C39: 1.5.1.2. Proventos Férias | F39: =SUM([1]MEM.CÁLC.FP.!D6:D7) -> 302889.15 | H39: Informação retirada da MEM.CÁLC.FP.
A40: 2 - FGTS | B40: 1.2 | C40: 1.5.1.2. FGTS s/ Férias | F40: =SUM([1]MEM.CÁLC.FP.!F6:F7) -> 24231.132 | H40: Informação retirada da MEM.CÁLC.FP.
A41: 1 - PIS | B41: 1.2 | C41: 1.5.1.3. PIS s/ Férias | F41: =IF(G5="SIM","",SUM([1]MEM.CÁLC.FP.!G6:G7)) -> 3028.8915 | H41: Informação retirada da MEM.CÁLC.FP.
...
